BEGIN:VCALENDAR
VERSION:2.0
PRODID:-//A Contre Courant - ECPv4.1.0.1//NONSGML v1.0//EN
CALSCALE:GREGORIAN
METHOD:PUBLISH
X-WR-CALNAME:A Contre Courant
X-ORIGINAL-URL:https://a-contre-courant.be
X-WR-CALDESC:Events for A Contre Courant
BEGIN:VEVENT
DTSTART;TZID="UTC+1":20170313T200000
DTEND;TZID="UTC+1":20170313T223000
DTSTAMP:20260420T072917
CREATED:20170214T190456
LAST-MODIFIED:20170401T201343
UID:237-1489435200-1489444200@a-contre-courant.be
SUMMARY:Lundi Contre la Dette - Présentation du livre d'Olivier Bonfond « Il faut tuer TINA »
DESCRIPTION:Pour ce lundi contre la dette du 13 mars 2017\, nous vous proposons de venir rencontrer Olivier Bonfond (CADTM Belgique) qui viendra présenter son tout nouveau livre « Il faut tuer TINA - 200 propositions pour rompre avec le fatalisme et changer le monde ». Rendez-vous à 20h à l’Aquilone (Boulevard Saucy\, 25 - Liège) Soirée organisée par le CADTM\, A Contre Courant et le CEPAG « TINA There Is No Alternative : il n’y a pas d’alternative. »\n\nLa célèbre expression de Margaret Thatcher est tout sauf vraie. Des alternatives au capitalisme et à la pensée unique néolibérale existent. Elles sont construites par des femmes et des hommes qui\, partout dans le monde\, se dressent contre l’injustice\, les inégalités\, l’oppression. Beaucoup de ces alternatives sont simples\, cohérentes et\, avec un peu de volonté politique\, pourraient être mises en œuvre dès aujourd’hui.\nPrétendre que l’être humain est fondamentalement égoïste ou que le capitalisme est notre seul horizon revient à forger notre impuissance : en jetant le discrédit sur celles et ceux qui veulent changer le monde\, taxés de rêveurs\, d’utopistes\, TINA nourrit le fatalisme\, la passivité et la résignation. En effet\, comment penser l’alternative et pourquoi agir si l’on part du principe que\, de toute façon\, « c’est foutu » et qu’on n’y pourra rien changer ?\n\nC’est le point de départ et l’objectif de ce livre : proposer un outil accessible\, pratique\, concret et rigoureux pour rompre avec le fatalisme ambiant et montrer que\, dans tous les domaines (finance\, économie\, éducation\, culture\, démocratie\, agriculture\, etc.)\, des alternatives crédibles à la mondialisation capitaliste sont à notre portée.\n\nCet ouvrage s’adresse aux millions de personnes indignées par les injustices et les absurdités de ce monde. À celles et ceux qui veulent construire un autre modèle\, fondé sur la satisfaction des droits humains fondamentaux\, le respect de l’environnement et la construction d’une véritable démocratie.\n\nL’Histoire a montré qu’il est vain d’attendre passivement que nos dirigeants servent les intérêts des populations. Ce ne sont pas le bon sens ou l’intérêt général qui mènent le monde\, mais les rapports de force. Face à la puissance organisée des transnationales et de la finance\, il est temps que les peuples s’organisent\, prennent en main leur destin et\, par l’action collective\, relèvent le défi du changement. Si ce livre réussit à éveiller l’envie d’apprendre\, de débattre et de passer à l’action\, il aura pleinement joué son rôle.\n\nOlivier Bonfond est économiste et conseiller au CEPAG (Centre d’Éducation populaire André Genot). Militant altermondialiste\, membre du CADTM\, de la plateforme d’audit citoyen de la dette en Belgique (ACiDe) et de la Commission pour la Vérité sur la dette publique grecque\, il est l’auteur du livre Et si on arrêtait de payer ? 10 questions/réponses sur la dette publique\nbe\nlge et les alternatives à l’austérité (Aden\, 2012). Il est également coordinateur du site www.bonnes-nouvelles.be\n\nÉditions Le Cerisier\nEn collaboration avec le CEPAG et le CADTM\n\n----\n\nLe CADTM a réalisé un podcast de la présentation  d'Olivier Bonfond : http://www.cadtm.org/Podcast-du-LCD-Il-faut-tuer-TINA\n\nVoici également quelques photos prise par notre ami Pierre Godfroid : https://www.facebook.com/pg/A-Contre-Courant-177924415926687/photos/?tab=album&album_id=396721490713644\n\n 
URL:https://a-contre-courant.be/index.php/event/lundi-contre-dette-presentation-livre-dolivier-bonfond-faut-tuer-tina/
LOCATION:25 blvd Saucy\, Liège\, Liège\, 4000\, Belgique
CATEGORIES:Conférence-débat
ATTACH;FMTTYPE=image/png:https://a-contre-courant.be/wp-content/uploads/2017/02/tina-affiche.png
END:VEVENT
END:VCALENDAR